BEGIN:VCALENDAR
PRODID:-//AT Content Types//AT Event//EN
VERSION:2.0
METHOD:PUBLISH
BEGIN:VEVENT
DTSTAMP:20260425T141903Z
CREATED:20151117T164641Z
UID:ATEvent-b604f19a370643579f0f0e42eb092172
LAST-MODIFIED:20151117T164649Z
SUMMARY:Slovensko-maďarská spoločná minulosť\: spolužitie\, konflikty\, spolupráca
DTSTART:20151120T163000Z
DTEND:20151120T184500Z
CLASS:PUBLIC
END:VEVENT
END:VCALENDAR
