BEGIN:VCALENDAR
PRODID:-//AT Content Types//AT Event//EN
VERSION:2.0
METHOD:PUBLISH
BEGIN:VEVENT
DTSTAMP:20260420T045814Z
CREATED:20160706T033450Z
UID:ATEvent-7a39c4dc55759df6072090f3fd02892d
LAST-MODIFIED:20160706T034906Z
SUMMARY:Pozvánka
DTSTART:20160710T083000Z
DTEND:20160710T100000Z
DESCRIPTION:Kazat´ bude\: generálny biskup EVAC Dr. Miloš Klátik P
 hD.\nLiturgiu budú slúžit´ slovenskí a mad´arskí kňaži.\nVyst
 úpi Budapeštiansky slovenský zbor OZVENA\nNa organe bude hrat´ kan
 torka Dr. Zsuzsanna Kinczlerová
CLASS:PUBLIC
END:VEVENT
END:VCALENDAR
