BEGIN:VCALENDAR
PRODID:-//AT Content Types//AT Event//EN
VERSION:2.0
METHOD:PUBLISH
BEGIN:VEVENT
DTSTAMP:20260423T012813Z
CREATED:20100515T131159Z
UID:ATEvent-2b6b6fc03208321ac1e4c4e970e5ad47
LAST-MODIFIED:20100515T131355Z
SUMMARY:Útitársak találkozója
DTSTART:20100520T143000Z
DTEND:20100520T170000Z
DESCRIPTION:A missziói munkában részt vevő testvérek számára sz
 ervez találkozókat Szeverényi János missziói lelkész. A legköze
 lebbi alkalom helyszíne Cinkota\, ahol egy "evangélikus sziget" alak
 ult ki az Evangélikus Missziói Központ\, az evangélikus templom\, 
 parókia és új gyülekezeti ház által meghatározott területen.
LOCATION:cinkotai evangélikus templom\: 1164 Budapest\, Rózsalevél u. 46.
CLASS:PUBLIC
END:VEVENT
END:VCALENDAR
