BEGIN:VCALENDAR
PRODID:-//AT Content Types//AT Event//EN
VERSION:2.0
METHOD:PUBLISH
BEGIN:VEVENT
DTSTAMP:20260422T152404Z
CREATED:20121126T093921Z
UID:ATEvent-8d6e39699faf3e05a956b414083e2f59
LAST-MODIFIED:20121214T103951Z
SUMMARY:Ãœnnepi istentiszteletek rendje
DTSTART:20121201T150000Z
DTEND:20121231T225500Z
DESCRIPTION:Az alÃ¡bbi tÃ¡blÃ¡zatban olvashatÃ³ a decemberben vÃ¡rhatÃ
 ³ esemÃ©nyek rendje. Szeretettel vÃ¡rjuk kedves TestvÃ©reinket!
LOCATION:cinkotai evangÃ©likus templom
CLASS:PUBLIC
END:VEVENT
END:VCALENDAR
