BEGIN:VCALENDAR
PRODID:-//AT Content Types//AT Event//EN
VERSION:2.0
METHOD:PUBLISH
BEGIN:VEVENT
DTSTAMP:20260422T154619Z
CREATED:20111017T235317Z
UID:ATEvent-f9e5b60bf2f18e75deaa0e63f82ac4a0
LAST-MODIFIED:20111017T235504Z
SUMMARY:Újra bababörze!
DTSTART:20111112T070000Z
DTEND:20111112T110000Z
DESCRIPTION:A tavaszi jól sikerült alkalom sokakban felkeltette az 
 rdeklődést a hagyomány folytatása iránt. Így most az őszi idő
 ben is várjuk az eladókat és a vásárlókat egyaránt.
LOCATION:gyülekezeti ház - 1164 Budapest\, Batthyány Ilona u. 53-55.
CLASS:PUBLIC
END:VEVENT
END:VCALENDAR
