BEGIN:VCALENDAR
PRODID:-//AT Content Types//AT Event//EN
VERSION:2.0
METHOD:PUBLISH
BEGIN:VEVENT
DTSTAMP:20260426T003313Z
CREATED:20151117T165217Z
UID:ATEvent-391e74e60efad537b4770a07096c9208
LAST-MODIFIED:20151117T165226Z
SUMMARY:Szlovák - magyar közös múlt\: együttélés\, konfliktusok\, együttműködés
DTSTART:20151120T163000Z
DTEND:20151120T183000Z
CLASS:PUBLIC
END:VEVENT
END:VCALENDAR
