BEGIN:VCALENDAR
PRODID:-//AT Content Types//AT Event//EN
VERSION:2.0
METHOD:PUBLISH
BEGIN:VEVENT
DTSTAMP:20260425T125639Z
CREATED:20140711T172718Z
UID:ATEvent-65ffb46cdf91f11acaecbf8207dc934c
LAST-MODIFIED:20140711T173134Z
SUMMARY:SzlaukÃ³ Orsolya lelkÃ©sszÃ© szentelÃ©se
DTSTART:20140713T130000Z
DTEND:20140713T160000Z
DESCRIPTION:SzlaukÃ³ Orsolya cinkotai csalÃ¡dban szÃ¼letett\, Ã©s inne
 n indult el a lelkÃ©szi pÃ¡lyÃ¡ra. TanulmÃ¡nyai befejezÃ©se utÃ¡n Ãšjp
 esten hatodÃ©veskÃ©nt kÃ©szÃ¼lt fel az Ã¶nÃ¡llÃ³ szolgÃ¡latra. \nLelkÃ
 ©sszÃ© szentelÃ©se anyagyÃ¼lekezetÃ©ben\, CinkotÃ¡n tÃ¶rtÃ©nik meg GÃ¡
 ncs PÃ©ter pÃ¼spÃ¶k Ã©s SzabÃ³nÃ© MÃ¡trai Marianna EHE Gyakorlati IntÃ
 ©zet igazgatÃ³ja szolgÃ¡latÃ¡val. A liturgiÃ¡ban rÃ©szt vesz a mentor\
 : SolymÃ¡r PÃ©ter TamÃ¡s Ãºjpesti lelkÃ©sz Ã©s a helyi lelkÃ©sz\: VetÅ
 ‘ IstvÃ¡n is.
LOCATION:cinkotai evangÃ©likus templom
CLASS:PUBLIC
END:VEVENT
END:VCALENDAR
