BEGIN:VCALENDAR
PRODID:-//AT Content Types//AT Event//EN
VERSION:1.0
BEGIN:VEVENT
DTSTART:20161029T090000Z
DTEND:20161029T111500Z
DCREATED:20161019T072126Z
UID:ATEvent-69b89b2f46ec5889e516aef0eb265282
SEQUENCE:0
LAST-MODIFIED:20161019T072148Z
SUMMARY:SzlaukÃ³ Orsolya beiktatÃ¡sa
DESCRIPTION:GyÃ¼lekezetÃ¼nkbÅ‘l indult SzlaukÃ³ Orsolya a lelkÃ©szi pÃ
 ¡lyÃ¡ra. Szegeden vÃ©gzett Ã¡ldÃ¡sos munkÃ¡lkodÃ¡sa utÃ¡n a ceglÃ©di g
 yÃ¼lekezet vÃ¡lasztotta meg lelkÃ©szÃ©nek. \n\nA cinkotai evangÃ©likus
 ok is rÃ©szt kÃ­vÃ¡nnak venni a beiktatÃ¡s Ã¼nnepi alkalmÃ¡n. EzÃ©rt v
 Ã¡rjuk azok jelentkezÃ©sÃ©t\, akik szÃ­vesen csatlakoznak hozzÃ¡nk. \n
 \nAutÃ³busszal utazunk. A rÃ©szletekrÅ‘l a lelkÃ©szi hivatalban tÃ¡jÃ©
 kozÃ³dhatnak.
LOCATION:CeglÃ©d
PRIORITY:3
TRANSP:0
END:VEVENT
END:VCALENDAR
