BEGIN:VCALENDAR
PRODID:-//AT Content Types//AT Event//EN
VERSION:2.0
METHOD:PUBLISH
BEGIN:VEVENT
DTSTAMP:20260420T025104Z
CREATED:20160131T072850Z
UID:ATEvent-35e2b9880f478a14670bd489a42d4770
LAST-MODIFIED:20160131T072904Z
SUMMARY:Színpompás farsang
DTSTART:20160206T150000Z
DTEND:20160206T180000Z
DESCRIPTION:Idén is megtartjuk szokásos farsangi együttlétünket. 
 Arra kérjük az érkezőket\, színes jelmezben érkezzenek! Lehet eg
 y színt kiválasztani\, akár többet is\, és izgatottan várjuk a s
 zivárvány összes színét felhasználó ötleteket.
LOCATION:Cinkota - gyülekezeti ház
CLASS:PUBLIC
END:VEVENT
END:VCALENDAR
