BEGIN:VCALENDAR
PRODID:-//AT Content Types//AT Event//EN
VERSION:1.0
BEGIN:VEVENT
DTSTART:20100630T060000Z
DTEND:20100703T060000Z
DCREATED:20100629T152340Z
UID:ATEvent-5f95e16b934e804a2336cdba679833ad
SEQUENCE:0
LAST-MODIFIED:20100629T152423Z
SUMMARY:Szabadság 1.
DESCRIPTION:Évi rendes szabadságom egy részét korábbi szolgálati
  és lakóhelyünkön töltjük Alsóságon. Ez alatt az idő alatt a 
 hivatali ügyeletet Johann Gyula csömöri lelkész vállalta. Telefon
 száma\: +3620 824 2074
PRIORITY:3
TRANSP:0
END:VEVENT
END:VCALENDAR
