BEGIN:VCALENDAR
PRODID:-//AT Content Types//AT Event//EN
VERSION:2.0
METHOD:PUBLISH
BEGIN:VEVENT
DTSTAMP:20260424T045711Z
CREATED:20130408T093222Z
UID:ATEvent-3d3877bf839d8952741ade62dc312186
LAST-MODIFIED:20130408T093229Z
SUMMARY:Rigai kórus hangversenye
DTSTART:20130411T160000Z
DTEND:20130411T173000Z
DESCRIPTION:Inta Godina vezényletével a Rigai 6. sz. Középiskola L
 eánykórusa ad hangversenyt templomunkban. Mindenkit szeretettel vár
 unk.
LOCATION:cinkotai evangélikus templom
CLASS:PUBLIC
END:VEVENT
END:VCALENDAR
