BEGIN:VCALENDAR
PRODID:-//AT Content Types//AT Event//EN
VERSION:2.0
METHOD:PUBLISH
BEGIN:VEVENT
DTSTAMP:20260422T222525Z
CREATED:20111016T061551Z
UID:ATEvent-4932111653a68552c6be14821ec98b10
LAST-MODIFIED:20111016T061615Z
SUMMARY:Reformációi istentiszteletek V.
DTSTART:20111030T170000Z
DTEND:20111030T180000Z
DESCRIPTION:Új hagyomány teremtésének szándékával közös refor
 mációi alkalmakat szerveztünk Csömör\, Nagytarcsa és Cinkota pro
 testáns hívei számára. Szeretettel várjuk mindhárom alkalomra Te
 stvéreinket.
LOCATION:cinkotai evangélikus templom - 1164 Budapest\, Rózsalevél u. 46.
CLASS:PUBLIC
END:VEVENT
END:VCALENDAR
