BEGIN:VCALENDAR
PRODID:-//AT Content Types//AT Event//EN
VERSION:2.0
METHOD:PUBLISH
BEGIN:VEVENT
DTSTAMP:20260422T174249Z
CREATED:20111016T061153Z
UID:ATEvent-9a00b679081efe3629d7fd680057d3ad
LAST-MODIFIED:20111016T061208Z
SUMMARY:Reformációi istentiszteletek III.
DTSTART:20111028T160000Z
DTEND:20111028T170000Z
DESCRIPTION:Új hagyomány teremtésének szándékával közös refor
 mációi alkalmakat szerveztünk Csömör\, Nagytarcsa és Cinkota pro
 testáns hívei számára. Szeretettel várjuk mindhárom alkalomra Te
 stvéreinket.
LOCATION:csömöri evangélikus templom - 2141 Csömör\, Petőfi S. u. 24.
CLASS:PUBLIC
END:VEVENT
END:VCALENDAR
