BEGIN:VCALENDAR
PRODID:-//AT Content Types//AT Event//EN
VERSION:1.0
BEGIN:VEVENT
DTSTART:20111027T160000Z
DTEND:20111027T170000Z
DCREATED:20111016T055950Z
UID:ATEvent-6e9234f149f4a79feddc10987ddd0769
SEQUENCE:0
LAST-MODIFIED:20111016T061440Z
SUMMARY:Reformációi istentiszteletek II.
DESCRIPTION:Régi hagyományt őrizve közös reformációi ünnepet t
 artunk a mátyásföldi református testvérekkel.
LOCATION:mátyásföldi református templom - 1165 Budapest\, Baross Gábor u. 23.
PRIORITY:3
TRANSP:0
END:VEVENT
END:VCALENDAR
