BEGIN:VCALENDAR
PRODID:-//AT Content Types//AT Event//EN
VERSION:1.0
BEGIN:VEVENT
DTSTART:20111025T160000Z
DTEND:20111025T170000Z
DCREATED:20111016T055747Z
UID:ATEvent-be843625cbb58746f53e79ca9ee5e275
SEQUENCE:0
LAST-MODIFIED:20111016T055815Z
SUMMARY:Reformációi istentiszteletek I.
DESCRIPTION:Régi hagyományt őrizve közös reformációi ünnepet t
 artunk a mátyásföldi református testvérekkel.
LOCATION:cinkotai evangélikus templom\: 1164 Budapest\, Rózsalevél u. 46.
PRIORITY:3
TRANSP:0
END:VEVENT
END:VCALENDAR
