BEGIN:VCALENDAR
PRODID:-//AT Content Types//AT Event//EN
VERSION:2.0
METHOD:PUBLISH
BEGIN:VEVENT
DTSTAMP:20260426T005840Z
CREATED:20161019T072549Z
UID:ATEvent-2453bf01754a17b7fc3b87e50d9f9754
LAST-MODIFIED:20161019T072559Z
SUMMARY:Reformációi istentisztelet
DTSTART:20161031T093000Z
DTEND:20161031T103000Z
DESCRIPTION:Idén is úrvacsorai istentisztelettel ünnepelünk a refo
 rmáció évfordulóján.\nIgét hirdet\: Kocsik Mónika
LOCATION:Cinkota\, Rózsalevél u. 46.
CLASS:PUBLIC
END:VEVENT
END:VCALENDAR
