BEGIN:VCALENDAR
PRODID:-//AT Content Types//AT Event//EN
VERSION:1.0
BEGIN:VEVENT
DTSTART:20121024T160000Z
DTEND:20121101T140000Z
DCREATED:20121012T135954Z
UID:ATEvent-5a514036a8da6aa6fd80034cf90a3875
SEQUENCE:0
LAST-MODIFIED:20121014T005553Z
SUMMARY:ReformÃ¡ciÃ³ Ã©s halottak napja
DESCRIPTION:KÃ¶zÃ¶s reformÃ¡ciÃ³i alkalmakat tartunk CsÃ¶mÃ¶r Ã©s Nagy
 tarcsa gyÃ¼lekezeteivel\, valamint a mÃ¡tyÃ¡sfÃ¶ldi reformÃ¡tus testvÃ
 ©rekkel.
PRIORITY:3
TRANSP:0
END:VEVENT
END:VCALENDAR
