BEGIN:VCALENDAR
PRODID:-//AT Content Types//AT Event//EN
VERSION:1.0
BEGIN:VEVENT
DTSTART:20110504T120000Z
DTEND:20110504T160000Z
DCREATED:20110504T114651Z
UID:ATEvent-58150a39df0eb4feec82850e587febf5
SEQUENCE:0
LAST-MODIFIED:20110504T114700Z
SUMMARY:Presbiteri nap
DESCRIPTION:Presbiterek Ã©s csalÃ¡dtagjai rÃ©szÃ©re szerveztÃ¼k meg ez
 t a kÃ¶tetlen egyÃ¼ttlÃ©tet - azzal a remÃ©nysÃ©ggel\, hogy gyÃ¼lekeze
 tÃ¼nk tisztsÃ©gviselÅ‘i jobban megismerik egymÃ¡st\, Ã©s ezÃ¡ltal hatÃ
 ©konyabban tudjÃ¡k Ã¶sszehangolni a gyÃ¼lekezetben vÃ©gzett szolgÃ¡lat
 okat.
LOCATION:Cinkota\, gyÃ¼lekezeti hÃ¡z (1164 Budapest\, BatthyÃ¡ny Ilona u. 53-55.)
PRIORITY:3
TRANSP:0
END:VEVENT
END:VCALENDAR
