BEGIN:VCALENDAR
PRODID:-//AT Content Types//AT Event//EN
VERSION:2.0
METHOD:PUBLISH
BEGIN:VEVENT
DTSTAMP:20260424T182939Z
CREATED:20130408T094111Z
UID:ATEvent-549c2e7927154cf3a7f77440494f2fbc
LAST-MODIFIED:20130408T094121Z
SUMMARY:PEZ - a NÃ³grÃ¡di EgyhÃ¡zmegyÃ©be
DTSTART:20130420T060000Z
DTEND:20130420T143500Z
DESCRIPTION:A Pesti EvangÃ©likus ZarÃ¡ndoklat 1. Ã©vÃ©ben a pesti gyÃ¼
 lekezeteket lÃ¡togattuk meg kÃ©t kirÃ¡ndulÃ¡s keretÃ©ben. A kÃ¶vetkezÅ
 ‘ Ã©vben a budai gyÃ¼lekezetek kerÃ¼ltek sorra\, szintÃ©n kÃ©t rÃ©szre
  bontva. IdÃ©n a NÃ³grÃ¡di EgyhÃ¡zmegye nÃ©hÃ¡ny gyÃ¼lekezetÃ©be tudun
 k ellÃ¡togatni. A jelentkezÃ©sek Ã¡prilis 7-Ã©n zÃ¡rultak le. (Ha mÃ©g
 is akadna mÃ©g jelentkezÅ‘\, fÃ©rÅ‘hely fÃ¼ggvÃ©nyÃ©ben tudjuk fogadni
 .)
LOCATION:NÃ³grÃ¡di EgyhÃ¡zmegye
CLASS:PUBLIC
END:VEVENT
END:VCALENDAR
