BEGIN:VCALENDAR
PRODID:-//AT Content Types//AT Event//EN
VERSION:2.0
METHOD:PUBLISH
BEGIN:VEVENT
DTSTAMP:20260424T154850Z
CREATED:20110312T185550Z
UID:ATEvent-e58b474a836f288dfeeaa088d615374d
LAST-MODIFIED:20110312T185608Z
SUMMARY:Pesti zarándoklás I.
DTSTART:20110326T070000Z
DTEND:20110326T154500Z
DESCRIPTION:Győri Gábor esperes javaslatára két körben "Pesti zar
 ándoklásra" indul az egyházmegye híveiből álló csapat\, hogy me
 gismerje testvéreit.
CLASS:PUBLIC
END:VEVENT
END:VCALENDAR
