BEGIN:VCALENDAR
PRODID:-//AT Content Types//AT Event//EN
VERSION:1.0
BEGIN:VEVENT
DTSTART:20120512T063000Z
DTEND:20120512T143000Z
DCREATED:20120426T010817Z
UID:ATEvent-cf41ef385bb3a14e061d821a42341d12
SEQUENCE:0
LAST-MODIFIED:20120426T010849Z
SUMMARY:Országos Gyermeknap
DESCRIPTION:Egyházunk Gyermek- és Ifjúsági Osztálya idén is megs
 zervezi az országos gyermeknapot.
LOCATION:Piliscsaba
PRIORITY:3
TRANSP:0
END:VEVENT
END:VCALENDAR
