BEGIN:VCALENDAR
PRODID:-//AT Content Types//AT Event//EN
VERSION:2.0
METHOD:PUBLISH
BEGIN:VEVENT
DTSTAMP:20260424T045503Z
CREATED:20151026T085401Z
UID:ATEvent-785fc0e770e9b2615f43b026c506e2ea
LAST-MODIFIED:20151026T085407Z
SUMMARY:Ökumenikus reformációi istentisztelet
DTSTART:20151031T170000Z
DTEND:20151031T183000Z
DESCRIPTION:Az árpádföldi református templomban közös reformáci
 ói ünnepre hívjuk evangélikus testvéreinket is.
LOCATION:1162 Budapest\, Menyhért u. 42.
CLASS:PUBLIC
END:VEVENT
END:VCALENDAR
