BEGIN:VCALENDAR
PRODID:-//AT Content Types//AT Event//EN
VERSION:2.0
METHOD:PUBLISH
BEGIN:VEVENT
DTSTAMP:20260422T222528Z
CREATED:20140411T104006Z
UID:ATEvent-82bd4cceab58422e55ef36b3a38c0b78
LAST-MODIFIED:20140411T104018Z
SUMMARY:Nagyheti istentiszteleti rend
DTSTART:20140411T104000Z
DTEND:20140411T104000Z
LOCATION:1164 Budapest\, Rózsalevél u. 46.
CLASS:PUBLIC
END:VEVENT
END:VCALENDAR
