BEGIN:VCALENDAR
PRODID:-//AT Content Types//AT Event//EN
VERSION:2.0
METHOD:PUBLISH
BEGIN:VEVENT
DTSTAMP:20260424T212708Z
CREATED:20130128T175505Z
UID:ATEvent-5032a133349a2ef40c8a760812693489
LAST-MODIFIED:20130212T120811Z
SUMMARY:Krisztus tanúi a változó világban
DTSTART:20130219T170000Z
DTEND:20130326T180000Z
DESCRIPTION:Ezzel a címmel indul böjti sorozatunk. Nyugdíjas lelké
 szek\, köztük korábbi püspökeink hirdetik Isten igéjét\, tanús
 ágot téve arról\, hogy Krisztus üdvösséget szerző áldozata hog
 yan adott reménységet nehéz időkben a szolgálat végzésére.
LOCATION:cinkotai evangélikus templom
CLASS:PUBLIC
END:VEVENT
END:VCALENDAR
