BEGIN:VCALENDAR
PRODID:-//AT Content Types//AT Event//EN
VERSION:2.0
METHOD:PUBLISH
BEGIN:VEVENT
DTSTAMP:20260424T083327Z
CREATED:20120414T071239Z
UID:ATEvent-a8c93b0583a97d0fcf1876c9b88583db
LAST-MODIFIED:20120414T071247Z
SUMMARY:Konfirmációi beszámoló
DTSTART:20120414T120000Z
DTEND:20120414T131000Z
DESCRIPTION:Nem is olyan régen még "vizsgának" neveztük\, pedig en
 nek az alkalomnak a lényege\, hogy konfirmandusaink elmondják\, mit 
 tanultak két év alatt a konfirmációi oktatáson\, és hogyan jutot
 tak arra a döntésre\, hogy gyülekezetünk felnőtt tagjai szeretné
 nek lenni.
LOCATION:cinkotai evangélikus templom\: 1164 Budapest\, Rózsalevél u. 46.
CLASS:PUBLIC
END:VEVENT
END:VCALENDAR
