BEGIN:VCALENDAR
PRODID:-//AT Content Types//AT Event//EN
VERSION:1.0
BEGIN:VEVENT
DTSTART:20161028T160000Z
DTEND:20161028T170000Z
DCREATED:20161019T073402Z
UID:ATEvent-e0e1ef9e6318dadabf7aa37f521761bf
SEQUENCE:0
LAST-MODIFIED:20161019T073419Z
SUMMARY:Közös reformációi ünnep Nagytarcsán
DESCRIPTION:Nagytarcsa\, Csömör és Cinkota evangélikusai idén a n
 agytarcsai templomban találkoznak.\nIgét hirdet\: Johann Gyula csöm
 öri lelkész
LOCATION:Nagytarcsa - evangélikus templom
PRIORITY:3
TRANSP:0
END:VEVENT
END:VCALENDAR
