BEGIN:VCALENDAR
PRODID:-//AT Content Types//AT Event//EN
VERSION:1.0
BEGIN:VEVENT
DTSTART:20161105T160000Z
DTEND:20161211T180000Z
DCREATED:20161019T074338Z
UID:ATEvent-993acada8821975212620d0d2d038f5c
SEQUENCE:0
LAST-MODIFIED:20161019T075137Z
SUMMARY:Kocsik Mónika kiállítása
DESCRIPTION:Szeretettel hívjuk kedes Testvéreinket lelkész-hitoktat
 ónk kiállításának megnyitójára.
LOCATION:Budapest\, Batthyány Ilona u. 53-55.
PRIORITY:3
TRANSP:0
END:VEVENT
END:VCALENDAR
