BEGIN:VCALENDAR
PRODID:-//AT Content Types//AT Event//EN
VERSION:2.0
METHOD:PUBLISH
BEGIN:VEVENT
DTSTAMP:20260426T012740Z
CREATED:20090926T155027Z
UID:ATEvent-0307b37c8e43675c7700c88819b9ba61
LAST-MODIFIED:20100314T032639Z
SUMMARY:Ifjúság-toborzó film-klub tábortűzzel
DTSTART:20091016T140000Z
DTEND:20091016T180000Z
DESCRIPTION:A gyülekezet fiataljait hívogatjuk egy kötetlen együtt
 létre\:\n- a Végtelen történet c. filmet nézzük meg közösen\,\
 n- majd a filmmel kapcsolatos élményeinket beszéljük meg tábortű
 z mellett\n- sokat énekelünk\, játszunk és beszélgetünk\n- Isten
  előtt elcsendesedünk\n- átéljük a közösség csodáját Krisztu
 ssal és egymással
LOCATION:Cinkota\: gyülekezeti ház (Batthyány I. u. 53-33.)
CONTACT:Vető István\, +3620 8 244 244\;    ...   +36 1 4000 441\, Istvan.Veto@lutheran.hu
CLASS:PUBLIC
END:VEVENT
END:VCALENDAR
