BEGIN:VCALENDAR
PRODID:-//AT Content Types//AT Event//EN
VERSION:1.0
BEGIN:VEVENT
DTSTART:20150405T033000Z
DTEND:20150405T050000Z
DCREATED:20150401T080629Z
UID:ATEvent-f00e056ad330c7bcd3b3f77d752c7ae1
SEQUENCE:0
LAST-MODIFIED:20150401T080636Z
SUMMARY:IDŐPONT-MÓDOSÍTÁS !!!
DESCRIPTION:A húsvét hajnali istentisztelet módosított időpontja\
 : április 5. reggel FÉL 6.
LOCATION:cinkotai evangélikus templom
PRIORITY:3
TRANSP:0
END:VEVENT
END:VCALENDAR
