BEGIN:VCALENDAR
PRODID:-//AT Content Types//AT Event//EN
VERSION:2.0
METHOD:PUBLISH
BEGIN:VEVENT
DTSTAMP:20260425T002739Z
CREATED:20120426T003124Z
UID:ATEvent-3104474b2a80d0ac1618e9180d2158af
LAST-MODIFIED:20120426T004755Z
SUMMARY:Hittanos kirÃ¡ndulÃ¡s
DTSTART:20120602T060000Z
DTEND:20120602T160000Z
DESCRIPTION:Ebben a tanÃ©vben azokrÃ³l a foglalkozÃ¡sokrÃ³l\, mestersÃ
 ©gekrÅ‘l tanultunk\, amelyeket a Biblia is megemlÃ­t. Idei kirÃ¡ndulÃ¡
 sunk is ehhez kapcsolÃ³dik. A szentendrei Skanzen mÅ±helyein keresztÃ¼
 l megismerhetjÃ¼k az egyes mestersÃ©gek mÅ±velÃ©sÃ©nek fontos mozzanat
 ait. Ugyanakkor jÃ¡tÃ©kos vetÃ©lkedÅ‘ keretÃ©ben szÃ¡molhatunk be az Ã
 ©v folyamÃ¡n szerzett ismeretekrÅ‘l.
LOCATION:Szentendre
CLASS:PUBLIC
END:VEVENT
END:VCALENDAR
