BEGIN:VCALENDAR
PRODID:-//AT Content Types//AT Event//EN
VERSION:1.0
BEGIN:VEVENT
DTSTART:20140222T160000Z
DTEND:20140222T170500Z
DCREATED:20140217T111132Z
UID:ATEvent-0094e51fde5d5bd27b844f667899984b
SEQUENCE:0
LAST-MODIFIED:20140217T111340Z
SUMMARY:HerencsÃ¡r ViktÃ³ria cimbalomhangversenye
DESCRIPTION:A tavalyi nagy Ã©rdeklÅ‘dÃ©s utÃ¡n idÃ©n is szeretettel vÃ
 ¡rjuk a kÃ¼lÃ¶nleges zenei Ã©lmÃ©nyt kedvelÅ‘ket HerencsÃ¡r ViktÃ³ria 
 koncertjÃ©re. Most leÃ¡nya\, HorvÃ¡th Anita hegedÅ±mÅ±vÃ©sz kÃ¶zremÅ±k
 Ã¶dÃ©sÃ©vel jÃ¡tszik gyÃ¼lekezeti hÃ¡zunkban.
LOCATION:1164 Budapest\, BatthyÃ¡ny Ilona u. 53-55.
PRIORITY:3
TRANSP:0
END:VEVENT
END:VCALENDAR
