BEGIN:VCALENDAR
PRODID:-//AT Content Types//AT Event//EN
VERSION:1.0
BEGIN:VEVENT
DTSTART:20160801T160000Z
DTEND:20160801T180500Z
DCREATED:20160801T125305Z
UID:ATEvent-48bdecef434e53cb1fc44d90b30980ef
SEQUENCE:0
LAST-MODIFIED:20160801T125422Z
SUMMARY:Hangverseny
DESCRIPTION:A Heinrich-Schütz-Énekegyüttes Thomas Rink vezetéséve
 l hangversenyt ad a cinkotai evangélikus templomban
LOCATION:1164 Budapest\, Rózsalevél u. 46.
PRIORITY:3
TRANSP:0
END:VEVENT
END:VCALENDAR
