BEGIN:VCALENDAR
PRODID:-//AT Content Types//AT Event//EN
VERSION:1.0
BEGIN:VEVENT
DTSTART:20121003T032000Z
DTEND:20121003T034500Z
DCREATED:20120929T050400Z
UID:ATEvent-f192e372d74096334842e95df957c6a8
SEQUENCE:0
LAST-MODIFIED:20120929T050607Z
SUMMARY:Hajnali gondolatok
DESCRIPTION:Vető István lelkész mondja el hajnali gondolatait.
LOCATION:MTV 1
PRIORITY:3
TRANSP:0
END:VEVENT
END:VCALENDAR
