BEGIN:VCALENDAR
PRODID:-//AT Content Types//AT Event//EN
VERSION:1.0
BEGIN:VEVENT
DTSTART:20121016T032000Z
DTEND:20121016T034500Z
DCREATED:20120929T050545Z
UID:ATEvent-ab13b95e64c29a8c86051fe3e72ea634
SEQUENCE:0
LAST-MODIFIED:20120929T050550Z
SUMMARY:Hajnali gondolatok
DESCRIPTION:Vető István mondja el hajnali gondolatait.
LOCATION:MTV 1
PRIORITY:3
TRANSP:0
END:VEVENT
END:VCALENDAR
