BEGIN:VCALENDAR
PRODID:-//AT Content Types//AT Event//EN
VERSION:1.0
BEGIN:VEVENT
DTSTART:20160707T060000Z
DTEND:20160710T100000Z
DCREATED:20160706T035601Z
UID:ATEvent-1c39994ebe5f8298cb36aac990f5e1a5
SEQUENCE:0
LAST-MODIFIED:20160706T035607Z
SUMMARY:Föld Sója Találkozó
PRIORITY:3
TRANSP:0
END:VEVENT
END:VCALENDAR
