BEGIN:VCALENDAR
PRODID:-//AT Content Types//AT Event//EN
VERSION:1.0
BEGIN:VEVENT
DTSTART:20110218T160000Z
DTEND:20110218T180000Z
DCREATED:20110129T091241Z
UID:ATEvent-4e1a14be2dad7c35463f7c7ff658001e
SEQUENCE:0
LAST-MODIFIED:20110129T091247Z
SUMMARY:Filmklub
DESCRIPTION:Legközelebb a "Marslakó a mostohám" c. vígjátékot te
 kintjük meg közösen\, majd megpróbáljuk annak üzenetét kereszty
 én szemmel értékelni.
LOCATION:Cinkota\, gyülekezeti ház
PRIORITY:3
TRANSP:0
END:VEVENT
END:VCALENDAR
