BEGIN:VCALENDAR
PRODID:-//AT Content Types//AT Event//EN
VERSION:2.0
METHOD:PUBLISH
BEGIN:VEVENT
DTSTAMP:20260422T154619Z
CREATED:20100910T102818Z
UID:ATEvent-00d61749fb498ec74cc242ae5c79ec34
LAST-MODIFIED:20101006T044440Z
SUMMARY:Szeretetvendégség a Biblia vasárnapján
DTSTART:20101024T150000Z
DTEND:20101024T170000Z
DESCRIPTION:Szeretetvendégség keretében beszél angliai élményeir
 ől és küldetéséről Sánta Ágnes. A Wycliffe Bibliafordítók Eg
 yesületének igazgatója\, Révész Péter bemutatja szolgálatukat. 
 Vendégünk lesz még az egyesület kommunikációs munkatársa\: Zent
 ai Zsuzsanna
LOCATION:cinkotai gyülekezeti ház\: 1164 Budapest\, Batthyány Ilona u. 53-55.
CLASS:PUBLIC
END:VEVENT
END:VCALENDAR
