BEGIN:VCALENDAR
PRODID:-//AT Content Types//AT Event//EN
VERSION:2.0
METHOD:PUBLISH
BEGIN:VEVENT
DTSTAMP:20260423T045759Z
CREATED:20120414T070804Z
UID:ATEvent-22488c2f871e3cf16bf61a597041ba07
LAST-MODIFIED:20120414T071308Z
SUMMARY:Konfirmáció 2012.
DTSTART:20120415T083000Z
DTEND:20120415T100500Z
DESCRIPTION:Két év felkészülés után nyolc konfirmandus áll az o
 ltár elé.
LOCATION:cinkotai evangélikus templom\: 1164 Budapest\, Rózsalevél u. 46.
CLASS:PUBLIC
END:VEVENT
END:VCALENDAR
