BEGIN:VCALENDAR
PRODID:-//AT Content Types//AT Event//EN
VERSION:2.0
METHOD:PUBLISH
BEGIN:VEVENT
DTSTAMP:20260426T013823Z
CREATED:20160131T075551Z
UID:ATEvent-c2ac4b57c74358a24083c3f5470bd885
LAST-MODIFIED:20160131T075604Z
SUMMARY:Böjti sorozat
DTSTART:20160216T170000Z
DTEND:20160322T183000Z
DESCRIPTION:Az országos munkaprogram témájához kapcsolódóan hív
 tunk vendég-igehirdetőket ebben az évben. \nA sorozat mottója\: 
 azt adtam át nektek\, amit én magam is kaptam” (1Kor 15\, 3)
LOCATION:Cinkota - gyülekezeti ház
CLASS:PUBLIC
END:VEVENT
END:VCALENDAR
