BEGIN:VCALENDAR
PRODID:-//AT Content Types//AT Event//EN
VERSION:2.0
METHOD:PUBLISH
BEGIN:VEVENT
DTSTAMP:20260424T034540Z
CREATED:20151111T013951Z
UID:ATEvent-c8a522bf708b5e918981aba74f43cb4e
LAST-MODIFIED:20151111T014002Z
SUMMARY:Adventi koszorúkészítés
DTSTART:20151122T160000Z
DTEND:20151122T183500Z
DESCRIPTION:Hagyományainkhoz híven idén is hívogatjuk Testvéreink
 et a családias együttlétre\, amelyen ige és adventi / karácsonyi 
 muzsika mellett készíthetjük el saját koszorúnkat a családi aszt
 alra\, valamint a karácsonyfára alkothatunk egyéni díszeket.
LOCATION:gyülekezeti ház (1164 Budapest\, Batthyány Ilona u. 53-55.
CLASS:PUBLIC
END:VEVENT
END:VCALENDAR
