BEGIN:VCALENDAR
PRODID:-//AT Content Types//AT Event//EN
VERSION:2.0
METHOD:PUBLISH
BEGIN:VEVENT
DTSTAMP:20260424T034343Z
CREATED:20131127T115309Z
UID:ATEvent-c112b7b624f4a7927a01dfb6943decd9
LAST-MODIFIED:20131127T115320Z
SUMMARY:Adventi koszorÃºkÃ©szÃ­tÃ©s
DTSTART:20131130T150000Z
DTEND:20131130T180000Z
DESCRIPTION:A megszokott mozdulatokra\, a megszokott kÃ¶zÃ¶ssÃ©gben hÃ
 ­vogatjuk TestvÃ©reinket\, hogy minÃ©l szebb legyen az Advent otthonun
 kban Ã©s a gyÃ¼lekezetben egyarÃ¡nt.
LOCATION:gyÃ¼lekezeti hÃ¡z
CLASS:PUBLIC
END:VEVENT
END:VCALENDAR
