BEGIN:VCALENDAR
PRODID:-//AT Content Types//AT Event//EN
VERSION:2.0
METHOD:PUBLISH
BEGIN:VEVENT
DTSTAMP:20260424T040526Z
CREATED:20100314T031831Z
UID:ATEvent-060f1b87e6d2b58ed18dde5d5240cf6a
LAST-MODIFIED:20100314T032534Z
SUMMARY:böjti sorozat Cinkotán
DTSTART:20100316T170000Z
DTEND:20100316T180000Z
DESCRIPTION:Igehirdető\: Vető István - Téma\: Szomjúhozom...
LOCATION:cinkotai evangélikus templom\: 1164 Budapest\, Rózsalevél u. 46.
CONTACT:Vető István\, +3620 8 244 244\, cinkota@evangelikus.hu
CLASS:PUBLIC
END:VEVENT
END:VCALENDAR
