BEGIN:VCALENDAR
PRODID:-//AT Content Types//AT Event//EN
VERSION:1.0
BEGIN:VEVENT
DTSTART:20100323T170000Z
DTEND:20100323T180000Z
DCREATED:20100314T032058Z
UID:ATEvent-754a9389d67b39ae0feb7ae9bc9ec71b
SEQUENCE:0
LAST-MODIFIED:20100827T122043Z
SUMMARY:böjti sorozat Cinkotán
DESCRIPTION:Igehirdető\: Gerőfiné dr. Brebovszky Éva - Téma\: Elv
 égeztetett!
LOCATION:cinkotai evangélikus templom\: 1164 Budapest\, Rózsalevél u. 46.
PRIORITY:3
TRANSP:0
END:VEVENT
END:VCALENDAR
