BEGIN:VCALENDAR
PRODID:-//AT Content Types//AT Event//EN
VERSION:2.0
METHOD:PUBLISH
BEGIN:VEVENT
DTSTAMP:20260426T035738Z
CREATED:20140217T112411Z
UID:ATEvent-5d4c875fd2d0ea61da14f4a9b2601cb6
LAST-MODIFIED:20140304T073033Z
SUMMARY:Böjti sorozat -- 2014.
DTSTART:20140304T170000Z
DTEND:20140415T172000Z
DESCRIPTION:Idén a Miatyánk kéréseit dolgozzuk fel a Budai Evangé
 likus Egyházmegyéből felkért lelkészek igehirdetései alapján.\n
 Az alkalmak keddenként este 6 órakor kezdődnek a gyülekezeti házb
 an.
LOCATION:1164 Budapest\, Batthyány Ilona u. 53-55.
CLASS:PUBLIC
END:VEVENT
END:VCALENDAR
