BEGIN:VCALENDAR
PRODID:-//AT Content Types//AT Event//EN
VERSION:2.0
METHOD:PUBLISH
BEGIN:VEVENT
DTSTAMP:20260424T052026Z
CREATED:20090926T160446Z
UID:ATEvent-f1f7ddde4eba17355a9f0e30ee37fe2d
LAST-MODIFIED:20100314T032805Z
SUMMARY:Aratási hálaadó ünnep
DTSTART:20091004T083000Z
DTEND:20091004T095500Z
DESCRIPTION:A gyülekezet eddigi hagyományaihoz híven idén is megta
 rtjuk aratási hálaadó ünnepünket.
LOCATION:Cinkota\: evangélikus templom (Rózsalevél u. 46.)
CONTACT:Vető István\, +3620 8 244 244\;    ...   +36 1 4000 441\, Istvan.Veto@lutheran.hu
CLASS:PUBLIC
END:VEVENT
END:VCALENDAR
