BEGIN:VCALENDAR
PRODID:-//AT Content Types//AT Event//EN
VERSION:1.0
BEGIN:VEVENT
DTSTART:20121201T144500Z
DTEND:20121201T174500Z
DCREATED:20121126T101115Z
UID:ATEvent-2f3a927fa5b9b9e44b26d63f76548e67
SEQUENCE:0
LAST-MODIFIED:20121126T101128Z
SUMMARY:Adventi koszorúkészítés
DESCRIPTION:A mellékelt plakáttal hívogatjuk Testvéreinket a hagyo
 mányos kézműves együttlétre\, adventi készülődésünkre.
LOCATION:evangélikus gyülekezeti ház
PRIORITY:3
TRANSP:0
END:VEVENT
END:VCALENDAR
