BEGIN:VCALENDAR
PRODID:-//AT Content Types//AT Event//EN
VERSION:2.0
METHOD:PUBLISH
BEGIN:VEVENT
DTSTAMP:20260424T144351Z
CREATED:20191028T170455Z
UID:ATEvent-43ebc3beed1380a0f78860b99068ba53
LAST-MODIFIED:20191028T170505Z
SUMMARY:Temetői istentisztelet
DTSTART:20191101T130000Z
DTEND:20191101T134500Z
DESCRIPTION:Régi hagyományainkhoz híven idén is megemlékezünk az
  elmúlt év folyamán elhunyt testvérekről\, valamint megemlékezü
 nk mindazokról\, akik már előre mentek.\nVigasztalásért könyörg
 ünk minden gyászolónak és emlékezőnek.
LOCATION:cinkotai köztemető
CLASS:PUBLIC
END:VEVENT
END:VCALENDAR
