BEGIN:VCALENDAR
PRODID:-//AT Content Types//AT Event//EN
VERSION:2.0
METHOD:PUBLISH
BEGIN:VEVENT
DTSTAMP:20260426T005840Z
CREATED:20180823T150730Z
UID:ATEvent-fb1b8e76b53d2842c44a189cfa0d533b
LAST-MODIFIED:20180902T014146Z
SUMMARY:Tanévnyitó istentisztelet
DTSTART:20180909T083000Z
DTEND:20180909T094500Z
DESCRIPTION:Generációk egy asztal körül -- ezzel a témával indí
 tjuk az új tanévet. Szeretettel várjuk gyülekezetünk minden koros
 ztályát.
LOCATION:Cinkotai evangélikus templom\, Rózsalevél u. 46.
CLASS:PUBLIC
END:VEVENT
END:VCALENDAR
