BEGIN:VCALENDAR
PRODID:-//AT Content Types//AT Event//EN
VERSION:1.0
BEGIN:VEVENT
DTSTART:20180930T060500Z
DTEND:20180930T160000Z
DCREATED:20180823T151702Z
UID:ATEvent-5eb1c58584af70e2c97726bc26dcf9c3
SEQUENCE:0
LAST-MODIFIED:20180919T061223Z
SUMMARY:Tanévkezdő hittanos kirándulás
DESCRIPTION:A kirándulás célja Visegrád. A tavalyi "Luther-év" fe
 lidézése\, belehelyezkedés a reneszánsz kor miliőjébe\, könnyű
  kis séta a királyi palota udvarában -- egy kis elcsendesedéssel\,
  majd szabad időtöltés\: bobozás\, focizás\, beszélgetés\, pikn
 ik a nagy mezőn.
PRIORITY:3
TRANSP:0
END:VEVENT
END:VCALENDAR
