BEGIN:VCALENDAR
PRODID:-//AT Content Types//AT Event//EN
VERSION:2.0
METHOD:PUBLISH
BEGIN:VEVENT
DTSTAMP:20260424T041054Z
CREATED:20190221T102830Z
UID:ATEvent-e7c93743d3984cb23424f81893ccdc5e
LAST-MODIFIED:20190221T103136Z
SUMMARY:Személyre szabott böjt
DTSTART:20190307T170000Z
DTEND:20190411T173000Z
DESCRIPTION:Az idei böjti sorozat a Biblia kiemelt személyeinek bemu
 tatásával segít megtalálnunk a mi személyre szabott böjtünk mé
 lységeit és ajándékait.
LOCATION:Cinkota - gyülekezeti ház (Batthyány Ilona u. 53-55.)
CATEGORIES:Budapest
CONTACT:Vető István\, 203177884\, cinkota@evangelikus.hu
URL:https://cinkota.lutheran.hu/front-page/leadImage/image_view_fullscreen
CLASS:PUBLIC
END:VEVENT
END:VCALENDAR
